0.0087196766246449
0.000000
0.000000
-0.0087196766246449
-121.794903841886
36.8099098205566
