0.00897669011896307
0.000000
0.000000
-0.00897669011896307
-100.82100538774
39.2095909118652
