0.00901519775390625
0.000000
0.000000
-0.00901519775390625
-91.4765625
39.5471801757813
