0.00881910844282672
0.000000
0.000000
-0.00881910844282672
-92.5187336314808
37.7702560424805
