0.00853318647904828
0.000000
0.000000
-0.00853318647904828
-88.3499568592418
34.8836250305176
