0.00982954545454547
0.000000
0.000000
-0.00982954545454547
-91.499866138805
45.6711235046387
