0.00826338334517047
0.000000
0.000000
-0.00826338334517047
-97.5580173839222
31.7444305419922
