0.00998038552024146
0.000000
0.000000
-0.00998038552024146
-73.2511194402521
46.6356048583984
