0.00874300870028411
0.000000
0.000000
-0.00874300870028411
-106.25190041282
37.0393257141113
