0.00828238747336646
0.000000
0.000000
-0.00828238747336646
-100.51271611994
31.9816570281982
