0.00976917613636365
0.000000
0.000000
-0.00976917613636365
-76.9947558316318
45.2725219726563
