0.00955275102095172
0.000000
0.000000
-0.00955275102095172
-107.671825062145
43.7790069580078
