0.0103606900301846
0.000000
0.000000
-0.0103606900301846
-70.9152062155984
48.8881912231445
