0.00791232022372161
0.000000
0.000000
-0.00791232022372161
-84.076698996804
26.7728881835938
