0.0107884909889915
0.000000
0.000000
-0.0107884909889915
-125.730550592596
51.1618347167969
