0.00900523792613635
0.000000
0.000000
-0.00900523792613635
-79.7095746127042
39.4604415893555
