0.00925550981001422
0.000000
0.000000
-0.00925550981001422
-99.008655201305
41.5422668457031
