0.00881780450994318
0.000000
0.000000
-0.00881780450994318
-99.9233412309126
37.7578964233398
