0.00985165682705964
0.000000
0.000000
-0.00985165682705964
-115.640494606712
45.8152046203613
