0.0103005426580256
0.000000
0.000000
-0.0103005426580256
-126.054159684615
48.5476493835449
