0.00902554598721589
0.000000
0.000000
-0.00902554598721589
-124.604666969993
39.6370239257813
