0.0105533669211648
0.000000
0.000000
-0.0105533669211648
-117.152010137385
49.9431762695313
