0.00836472944779828
0.000000
0.000000
-0.00836472944779828
-90.749416698109
32.9793014526367
