0.0108303278142756
0.000000
0.000000
-0.0108303278142756
-104.113096757369
51.3713417053223
