0.00847761674360797
0.000000
0.000000
-0.00847761674360797
-104.732288013805
34.2743453979492
