0.00912533846768464
0.000000
0.000000
-0.00912533846768464
-88.681601784446
40.4844665527344
