0.00867606423117896
0.000000
0.000000
-0.00867606423117896
-81.0318201238459
36.3749160766602
