0.00921686345880682
0.000000
0.000000
-0.00921686345880682
-93.4480576948686
41.2336387634277
