0.00935005881569604
0.000000
0.000000
-0.00935005881569604
-89.0850164240057
42.2792663574219
