0.00941070556640625
0.000000
0.000000
-0.00941070556640625
-92.1602096557617
42.7389450073242
