0.00908580433238636
0.000000
0.000000
-0.00908580433238636
-100.168742093173
40.1525955200195
