0.0087744140625
0.000000
0.000000
-0.0087744140625
-88.7163238525391
37.3439636230469
