0.00897621848366479
0.000000
0.000000
-0.00897621848366479
-89.9778692072088
39.2054595947266
