0.00892733487215911
0.000000
0.000000
-0.00892733487215911
-122.309197165749
38.7690162658691
