0.00771340110085229
0.000000
0.000000
-0.00771340110085229
-159.497018987482
23.2571849822998
