0.00766257546164771
0.000000
0.000000
-0.00766257546164771
-158.079778497869
22.2362079620361
