0.00739779385653406
0.000000
0.000000
-0.00739779385653406
142.591666481712
15.4903936386108
