0.00853659889914771
0.000000
0.000000
-0.00853659889914771
-99.8639810735529
34.9205665588379
