0.00936062899502839
0.000000
0.000000
-0.00936062899502839
-107.353186867454
42.3601722717285
