0.00879233620383521
0.000000
0.000000
-0.00879233620383521
-120.197698419744
37.5158920288086
