0.00835479736328125
0.000000
0.000000
-0.00835479736328125
-88.4274368286133
32.8615684509277
