0.00885825417258521
0.000000
0.000000
-0.00885825417258521
-117.548475092108
38.137020111084
