0.00847312233664771
0.000000
0.000000
-0.00847312233664771
-113.171933954412
34.2241077423096
