0.00962047230113636
0.000000
0.000000
-0.00962047230113636
-93.4671429720792
44.2576293945313
