0.00850893887606536
0.000000
0.000000
-0.00850893887606536
-92.5366828224876
34.6199569702148
