0.00959098122336646
0.000000
0.000000
-0.00959098122336646
-84.7372949773615
44.0505180358887
