0.00982652143998578
0.000000
0.000000
-0.00982652143998578
-81.6849559437145
45.651294708252
