0.0079986572265625
0.000000
0.000000
-0.0079986572265625
-99.8185958862305
28.1156311035156
