0.00932151100852271
0.000000
0.000000
-0.00932151100852271
-124.428457086737
42.0594139099121
