0.0146962113813921
0.000000
0.000000
-0.0146962113813921
-155.757862437855
64.7674598693848
